BEGIN:VCALENDAR
VERSION:2.0
PRODID:-//The Garden Kitchen - ECPv6.15.20//NONSGML v1.0//EN
CALSCALE:GREGORIAN
METHOD:PUBLISH
X-WR-CALNAME:The Garden Kitchen
X-ORIGINAL-URL:https://thegardenkitchen.org
X-WR-CALDESC:Events for The Garden Kitchen
REFRESH-INTERVAL;VALUE=DURATION:PT1H
X-Robots-Tag:noindex
X-PUBLISHED-TTL:PT1H
BEGIN:VTIMEZONE
TZID:America/Phoenix
BEGIN:STANDARD
TZOFFSETFROM:-0700
TZOFFSETTO:-0700
TZNAME:MST
DTSTART:20250101T000000
END:STANDARD
END:VTIMEZONE
BEGIN:VEVENT
DTSTART;TZID=America/Phoenix:20260429T100000
DTEND;TZID=America/Phoenix:20260429T120000
DTSTAMP:20260423T102521
CREATED:20250203T211055Z
LAST-MODIFIED:20250213T220435Z
UID:10002448-1777456800-1777464000@thegardenkitchen.org
SUMMARY:PLAZA Mobile Market // Mercado Móvil PLAZA
DESCRIPTION:  \n \nPLAZA Mobile Market is Tucson’s new farmers’ market! \nProduce is grown by small local farmers\, such as refugee communities at the International Rescue Committee and Iskashitaa Refugee Network\, who are paid fair market value. The produce is then brought to markets at community locations by The Garden Kitchen at a discount to the public. \nWe accept SNAP-EBT\, FMNP\, and will be providing Double Up SNAP benefits\, as well as cash and card. \n// \n¡El Mercado Móvil PLAZA es el nuevo mercadito de Tucson! \nLas hortalizas son cultivadas por pequeños agricultores locales\, como los de International Rescue Committee and Iskashitaa Refugee Network\, a quienes se les paga el valor equitativo de mercado. Luego\, The Garden Kitchen lleva los productos frescos a los mercaditos en centros comunitarios con un descuento para el público. \nSe aceptan dinero en efectivo\, tarjetas de crédito y débito\, y SNAP-EBT\, FMNP\, y Double Up SNAP. \n  \n 
URL:https://thegardenkitchen.org/event/plaza-mobile-market-valencia/2026-04-29/
LOCATION:Valencia Library\, 202 W Valencia Rd\, Tucson\, AZ\, 85706\, United States
CATEGORIES:Community Orgs,Food,Food Security,Southside Community Events,UA Cooperative Extension
GEO:32.1345574;-110.9725514
X-APPLE-STRUCTURED-LOCATION;VALUE=URI;X-ADDRESS=Valencia Library 202 W Valencia Rd Tucson AZ 85706 United States;X-APPLE-RADIUS=500;X-TITLE=202 W Valencia Rd:geo:-110.9725514,32.1345574
END:VEVENT
END:VCALENDAR