BEGIN:VCALENDAR
VERSION:2.0
PRODID:-//The Garden Kitchen - ECPv6.15.20//NONSGML v1.0//EN
CALSCALE:GREGORIAN
METHOD:PUBLISH
X-ORIGINAL-URL:https://thegardenkitchen.org
X-WR-CALDESC:Events for The Garden Kitchen
REFRESH-INTERVAL;VALUE=DURATION:PT1H
X-Robots-Tag:noindex
X-PUBLISHED-TTL:PT1H
BEGIN:VTIMEZONE
TZID:America/Phoenix
BEGIN:STANDARD
TZOFFSETFROM:-0700
TZOFFSETTO:-0700
TZNAME:MST
DTSTART:20300101T000000
END:STANDARD
END:VTIMEZONE
BEGIN:VEVENT
DTSTART;TZID=America/Phoenix:20310212T100000
DTEND;TZID=America/Phoenix:20310212T120000
DTSTAMP:20260425T044317
CREATED:20250203T211055Z
LAST-MODIFIED:20250213T220435Z
UID:10003194-1928656800-1928664000@thegardenkitchen.org
SUMMARY:PLAZA Mobile Market // Mercado Móvil PLAZA
DESCRIPTION:  \n \nPLAZA Mobile Market is Tucson’s new farmers’ market! \nProduce is grown by small local farmers\, such as refugee communities at the International Rescue Committee and Iskashitaa Refugee Network\, who are paid fair market value. The produce is then brought to markets at community locations by The Garden Kitchen at a discount to the public. \nWe accept SNAP-EBT\, FMNP\, and will be providing Double Up SNAP benefits\, as well as cash and card. \n// \n¡El Mercado Móvil PLAZA es el nuevo mercadito de Tucson! \nLas hortalizas son cultivadas por pequeños agricultores locales\, como los de International Rescue Committee and Iskashitaa Refugee Network\, a quienes se les paga el valor equitativo de mercado. Luego\, The Garden Kitchen lleva los productos frescos a los mercaditos en centros comunitarios con un descuento para el público. \nSe aceptan dinero en efectivo\, tarjetas de crédito y débito\, y SNAP-EBT\, FMNP\, y Double Up SNAP. \n  \n 
URL:https://thegardenkitchen.org/event/plaza-mobile-market-valencia/2031-02-12/
LOCATION:Valencia Library\, 202 W Valencia Rd\, Tucson\, AZ\, 85706\, United States
CATEGORIES:Community Orgs,Food,Food Security,Southside Community Events,UA Cooperative Extension
GEO:32.1345574;-110.9725514
X-APPLE-STRUCTURED-LOCATION;VALUE=URI;X-ADDRESS=Valencia Library 202 W Valencia Rd Tucson AZ 85706 United States;X-APPLE-RADIUS=500;X-TITLE=202 W Valencia Rd:geo:-110.9725514,32.1345574
END:VEVENT
BEGIN:VEVENT
DTSTART;TZID=America/Phoenix:20310219T100000
DTEND;TZID=America/Phoenix:20310219T120000
DTSTAMP:20260425T044317
CREATED:20250203T211055Z
LAST-MODIFIED:20250213T220435Z
UID:10003198-1929261600-1929268800@thegardenkitchen.org
SUMMARY:PLAZA Mobile Market // Mercado Móvil PLAZA
DESCRIPTION:  \n \nPLAZA Mobile Market is Tucson’s new farmers’ market! \nProduce is grown by small local farmers\, such as refugee communities at the International Rescue Committee and Iskashitaa Refugee Network\, who are paid fair market value. The produce is then brought to markets at community locations by The Garden Kitchen at a discount to the public. \nWe accept SNAP-EBT\, FMNP\, and will be providing Double Up SNAP benefits\, as well as cash and card. \n// \n¡El Mercado Móvil PLAZA es el nuevo mercadito de Tucson! \nLas hortalizas son cultivadas por pequeños agricultores locales\, como los de International Rescue Committee and Iskashitaa Refugee Network\, a quienes se les paga el valor equitativo de mercado. Luego\, The Garden Kitchen lleva los productos frescos a los mercaditos en centros comunitarios con un descuento para el público. \nSe aceptan dinero en efectivo\, tarjetas de crédito y débito\, y SNAP-EBT\, FMNP\, y Double Up SNAP. \n  \n 
URL:https://thegardenkitchen.org/event/plaza-mobile-market-valencia/2031-02-19/
LOCATION:Valencia Library\, 202 W Valencia Rd\, Tucson\, AZ\, 85706\, United States
CATEGORIES:Community Orgs,Food,Food Security,Southside Community Events,UA Cooperative Extension
GEO:32.1345574;-110.9725514
X-APPLE-STRUCTURED-LOCATION;VALUE=URI;X-ADDRESS=Valencia Library 202 W Valencia Rd Tucson AZ 85706 United States;X-APPLE-RADIUS=500;X-TITLE=202 W Valencia Rd:geo:-110.9725514,32.1345574
END:VEVENT
BEGIN:VEVENT
DTSTART;TZID=America/Phoenix:20310226T100000
DTEND;TZID=America/Phoenix:20310226T120000
DTSTAMP:20260425T044317
CREATED:20250203T211055Z
LAST-MODIFIED:20250213T220435Z
UID:10003202-1929866400-1929873600@thegardenkitchen.org
SUMMARY:PLAZA Mobile Market // Mercado Móvil PLAZA
DESCRIPTION:  \n \nPLAZA Mobile Market is Tucson’s new farmers’ market! \nProduce is grown by small local farmers\, such as refugee communities at the International Rescue Committee and Iskashitaa Refugee Network\, who are paid fair market value. The produce is then brought to markets at community locations by The Garden Kitchen at a discount to the public. \nWe accept SNAP-EBT\, FMNP\, and will be providing Double Up SNAP benefits\, as well as cash and card. \n// \n¡El Mercado Móvil PLAZA es el nuevo mercadito de Tucson! \nLas hortalizas son cultivadas por pequeños agricultores locales\, como los de International Rescue Committee and Iskashitaa Refugee Network\, a quienes se les paga el valor equitativo de mercado. Luego\, The Garden Kitchen lleva los productos frescos a los mercaditos en centros comunitarios con un descuento para el público. \nSe aceptan dinero en efectivo\, tarjetas de crédito y débito\, y SNAP-EBT\, FMNP\, y Double Up SNAP. \n  \n 
URL:https://thegardenkitchen.org/event/plaza-mobile-market-valencia/2031-02-26/
LOCATION:Valencia Library\, 202 W Valencia Rd\, Tucson\, AZ\, 85706\, United States
CATEGORIES:Community Orgs,Food,Food Security,Southside Community Events,UA Cooperative Extension
GEO:32.1345574;-110.9725514
X-APPLE-STRUCTURED-LOCATION;VALUE=URI;X-ADDRESS=Valencia Library 202 W Valencia Rd Tucson AZ 85706 United States;X-APPLE-RADIUS=500;X-TITLE=202 W Valencia Rd:geo:-110.9725514,32.1345574
END:VEVENT
BEGIN:VEVENT
DTSTART;TZID=America/Phoenix:20310305T100000
DTEND;TZID=America/Phoenix:20310305T120000
DTSTAMP:20260425T044317
CREATED:20250203T211055Z
LAST-MODIFIED:20250213T220435Z
UID:10003205-1930471200-1930478400@thegardenkitchen.org
SUMMARY:PLAZA Mobile Market // Mercado Móvil PLAZA
DESCRIPTION:  \n \nPLAZA Mobile Market is Tucson’s new farmers’ market! \nProduce is grown by small local farmers\, such as refugee communities at the International Rescue Committee and Iskashitaa Refugee Network\, who are paid fair market value. The produce is then brought to markets at community locations by The Garden Kitchen at a discount to the public. \nWe accept SNAP-EBT\, FMNP\, and will be providing Double Up SNAP benefits\, as well as cash and card. \n// \n¡El Mercado Móvil PLAZA es el nuevo mercadito de Tucson! \nLas hortalizas son cultivadas por pequeños agricultores locales\, como los de International Rescue Committee and Iskashitaa Refugee Network\, a quienes se les paga el valor equitativo de mercado. Luego\, The Garden Kitchen lleva los productos frescos a los mercaditos en centros comunitarios con un descuento para el público. \nSe aceptan dinero en efectivo\, tarjetas de crédito y débito\, y SNAP-EBT\, FMNP\, y Double Up SNAP. \n  \n 
URL:https://thegardenkitchen.org/event/plaza-mobile-market-valencia/2031-03-05/
LOCATION:Valencia Library\, 202 W Valencia Rd\, Tucson\, AZ\, 85706\, United States
CATEGORIES:Community Orgs,Food,Food Security,Southside Community Events,UA Cooperative Extension
GEO:32.1345574;-110.9725514
X-APPLE-STRUCTURED-LOCATION;VALUE=URI;X-ADDRESS=Valencia Library 202 W Valencia Rd Tucson AZ 85706 United States;X-APPLE-RADIUS=500;X-TITLE=202 W Valencia Rd:geo:-110.9725514,32.1345574
END:VEVENT
BEGIN:VEVENT
DTSTART;TZID=America/Phoenix:20310312T100000
DTEND;TZID=America/Phoenix:20310312T120000
DTSTAMP:20260425T044317
CREATED:20250203T211055Z
LAST-MODIFIED:20250213T220435Z
UID:10003210-1931076000-1931083200@thegardenkitchen.org
SUMMARY:PLAZA Mobile Market // Mercado Móvil PLAZA
DESCRIPTION:  \n \nPLAZA Mobile Market is Tucson’s new farmers’ market! \nProduce is grown by small local farmers\, such as refugee communities at the International Rescue Committee and Iskashitaa Refugee Network\, who are paid fair market value. The produce is then brought to markets at community locations by The Garden Kitchen at a discount to the public. \nWe accept SNAP-EBT\, FMNP\, and will be providing Double Up SNAP benefits\, as well as cash and card. \n// \n¡El Mercado Móvil PLAZA es el nuevo mercadito de Tucson! \nLas hortalizas son cultivadas por pequeños agricultores locales\, como los de International Rescue Committee and Iskashitaa Refugee Network\, a quienes se les paga el valor equitativo de mercado. Luego\, The Garden Kitchen lleva los productos frescos a los mercaditos en centros comunitarios con un descuento para el público. \nSe aceptan dinero en efectivo\, tarjetas de crédito y débito\, y SNAP-EBT\, FMNP\, y Double Up SNAP. \n  \n 
URL:https://thegardenkitchen.org/event/plaza-mobile-market-valencia/2031-03-12/
LOCATION:Valencia Library\, 202 W Valencia Rd\, Tucson\, AZ\, 85706\, United States
CATEGORIES:Community Orgs,Food,Food Security,Southside Community Events,UA Cooperative Extension
GEO:32.1345574;-110.9725514
X-APPLE-STRUCTURED-LOCATION;VALUE=URI;X-ADDRESS=Valencia Library 202 W Valencia Rd Tucson AZ 85706 United States;X-APPLE-RADIUS=500;X-TITLE=202 W Valencia Rd:geo:-110.9725514,32.1345574
END:VEVENT
BEGIN:VEVENT
DTSTART;TZID=America/Phoenix:20310319T100000
DTEND;TZID=America/Phoenix:20310319T120000
DTSTAMP:20260425T044317
CREATED:20250203T211055Z
LAST-MODIFIED:20250213T220435Z
UID:10003213-1931680800-1931688000@thegardenkitchen.org
SUMMARY:PLAZA Mobile Market // Mercado Móvil PLAZA
DESCRIPTION:  \n \nPLAZA Mobile Market is Tucson’s new farmers’ market! \nProduce is grown by small local farmers\, such as refugee communities at the International Rescue Committee and Iskashitaa Refugee Network\, who are paid fair market value. The produce is then brought to markets at community locations by The Garden Kitchen at a discount to the public. \nWe accept SNAP-EBT\, FMNP\, and will be providing Double Up SNAP benefits\, as well as cash and card. \n// \n¡El Mercado Móvil PLAZA es el nuevo mercadito de Tucson! \nLas hortalizas son cultivadas por pequeños agricultores locales\, como los de International Rescue Committee and Iskashitaa Refugee Network\, a quienes se les paga el valor equitativo de mercado. Luego\, The Garden Kitchen lleva los productos frescos a los mercaditos en centros comunitarios con un descuento para el público. \nSe aceptan dinero en efectivo\, tarjetas de crédito y débito\, y SNAP-EBT\, FMNP\, y Double Up SNAP. \n  \n 
URL:https://thegardenkitchen.org/event/plaza-mobile-market-valencia/2031-03-19/
LOCATION:Valencia Library\, 202 W Valencia Rd\, Tucson\, AZ\, 85706\, United States
CATEGORIES:Community Orgs,Food,Food Security,Southside Community Events,UA Cooperative Extension
GEO:32.1345574;-110.9725514
X-APPLE-STRUCTURED-LOCATION;VALUE=URI;X-ADDRESS=Valencia Library 202 W Valencia Rd Tucson AZ 85706 United States;X-APPLE-RADIUS=500;X-TITLE=202 W Valencia Rd:geo:-110.9725514,32.1345574
END:VEVENT
BEGIN:VEVENT
DTSTART;TZID=America/Phoenix:20310326T100000
DTEND;TZID=America/Phoenix:20310326T120000
DTSTAMP:20260425T044317
CREATED:20250203T211055Z
LAST-MODIFIED:20250213T220435Z
UID:10003218-1932285600-1932292800@thegardenkitchen.org
SUMMARY:PLAZA Mobile Market // Mercado Móvil PLAZA
DESCRIPTION:  \n \nPLAZA Mobile Market is Tucson’s new farmers’ market! \nProduce is grown by small local farmers\, such as refugee communities at the International Rescue Committee and Iskashitaa Refugee Network\, who are paid fair market value. The produce is then brought to markets at community locations by The Garden Kitchen at a discount to the public. \nWe accept SNAP-EBT\, FMNP\, and will be providing Double Up SNAP benefits\, as well as cash and card. \n// \n¡El Mercado Móvil PLAZA es el nuevo mercadito de Tucson! \nLas hortalizas son cultivadas por pequeños agricultores locales\, como los de International Rescue Committee and Iskashitaa Refugee Network\, a quienes se les paga el valor equitativo de mercado. Luego\, The Garden Kitchen lleva los productos frescos a los mercaditos en centros comunitarios con un descuento para el público. \nSe aceptan dinero en efectivo\, tarjetas de crédito y débito\, y SNAP-EBT\, FMNP\, y Double Up SNAP. \n  \n 
URL:https://thegardenkitchen.org/event/plaza-mobile-market-valencia/2031-03-26/
LOCATION:Valencia Library\, 202 W Valencia Rd\, Tucson\, AZ\, 85706\, United States
CATEGORIES:Community Orgs,Food,Food Security,Southside Community Events,UA Cooperative Extension
GEO:32.1345574;-110.9725514
X-APPLE-STRUCTURED-LOCATION;VALUE=URI;X-ADDRESS=Valencia Library 202 W Valencia Rd Tucson AZ 85706 United States;X-APPLE-RADIUS=500;X-TITLE=202 W Valencia Rd:geo:-110.9725514,32.1345574
END:VEVENT
BEGIN:VEVENT
DTSTART;TZID=America/Phoenix:20310402T100000
DTEND;TZID=America/Phoenix:20310402T120000
DTSTAMP:20260425T044317
CREATED:20250203T211055Z
LAST-MODIFIED:20250213T220435Z
UID:10003221-1932890400-1932897600@thegardenkitchen.org
SUMMARY:PLAZA Mobile Market // Mercado Móvil PLAZA
DESCRIPTION:  \n \nPLAZA Mobile Market is Tucson’s new farmers’ market! \nProduce is grown by small local farmers\, such as refugee communities at the International Rescue Committee and Iskashitaa Refugee Network\, who are paid fair market value. The produce is then brought to markets at community locations by The Garden Kitchen at a discount to the public. \nWe accept SNAP-EBT\, FMNP\, and will be providing Double Up SNAP benefits\, as well as cash and card. \n// \n¡El Mercado Móvil PLAZA es el nuevo mercadito de Tucson! \nLas hortalizas son cultivadas por pequeños agricultores locales\, como los de International Rescue Committee and Iskashitaa Refugee Network\, a quienes se les paga el valor equitativo de mercado. Luego\, The Garden Kitchen lleva los productos frescos a los mercaditos en centros comunitarios con un descuento para el público. \nSe aceptan dinero en efectivo\, tarjetas de crédito y débito\, y SNAP-EBT\, FMNP\, y Double Up SNAP. \n  \n 
URL:https://thegardenkitchen.org/event/plaza-mobile-market-valencia/2031-04-02/
LOCATION:Valencia Library\, 202 W Valencia Rd\, Tucson\, AZ\, 85706\, United States
CATEGORIES:Community Orgs,Food,Food Security,Southside Community Events,UA Cooperative Extension
GEO:32.1345574;-110.9725514
X-APPLE-STRUCTURED-LOCATION;VALUE=URI;X-ADDRESS=Valencia Library 202 W Valencia Rd Tucson AZ 85706 United States;X-APPLE-RADIUS=500;X-TITLE=202 W Valencia Rd:geo:-110.9725514,32.1345574
END:VEVENT
BEGIN:VEVENT
DTSTART;TZID=America/Phoenix:20310409T100000
DTEND;TZID=America/Phoenix:20310409T120000
DTSTAMP:20260425T044317
CREATED:20250203T211055Z
LAST-MODIFIED:20250213T220435Z
UID:10003226-1933495200-1933502400@thegardenkitchen.org
SUMMARY:PLAZA Mobile Market // Mercado Móvil PLAZA
DESCRIPTION:  \n \nPLAZA Mobile Market is Tucson’s new farmers’ market! \nProduce is grown by small local farmers\, such as refugee communities at the International Rescue Committee and Iskashitaa Refugee Network\, who are paid fair market value. The produce is then brought to markets at community locations by The Garden Kitchen at a discount to the public. \nWe accept SNAP-EBT\, FMNP\, and will be providing Double Up SNAP benefits\, as well as cash and card. \n// \n¡El Mercado Móvil PLAZA es el nuevo mercadito de Tucson! \nLas hortalizas son cultivadas por pequeños agricultores locales\, como los de International Rescue Committee and Iskashitaa Refugee Network\, a quienes se les paga el valor equitativo de mercado. Luego\, The Garden Kitchen lleva los productos frescos a los mercaditos en centros comunitarios con un descuento para el público. \nSe aceptan dinero en efectivo\, tarjetas de crédito y débito\, y SNAP-EBT\, FMNP\, y Double Up SNAP. \n  \n 
URL:https://thegardenkitchen.org/event/plaza-mobile-market-valencia/2031-04-09/
LOCATION:Valencia Library\, 202 W Valencia Rd\, Tucson\, AZ\, 85706\, United States
CATEGORIES:Community Orgs,Food,Food Security,Southside Community Events,UA Cooperative Extension
GEO:32.1345574;-110.9725514
X-APPLE-STRUCTURED-LOCATION;VALUE=URI;X-ADDRESS=Valencia Library 202 W Valencia Rd Tucson AZ 85706 United States;X-APPLE-RADIUS=500;X-TITLE=202 W Valencia Rd:geo:-110.9725514,32.1345574
END:VEVENT
BEGIN:VEVENT
DTSTART;TZID=America/Phoenix:20310416T100000
DTEND;TZID=America/Phoenix:20310416T120000
DTSTAMP:20260425T044317
CREATED:20250203T211055Z
LAST-MODIFIED:20250213T220435Z
UID:10003229-1934100000-1934107200@thegardenkitchen.org
SUMMARY:PLAZA Mobile Market // Mercado Móvil PLAZA
DESCRIPTION:  \n \nPLAZA Mobile Market is Tucson’s new farmers’ market! \nProduce is grown by small local farmers\, such as refugee communities at the International Rescue Committee and Iskashitaa Refugee Network\, who are paid fair market value. The produce is then brought to markets at community locations by The Garden Kitchen at a discount to the public. \nWe accept SNAP-EBT\, FMNP\, and will be providing Double Up SNAP benefits\, as well as cash and card. \n// \n¡El Mercado Móvil PLAZA es el nuevo mercadito de Tucson! \nLas hortalizas son cultivadas por pequeños agricultores locales\, como los de International Rescue Committee and Iskashitaa Refugee Network\, a quienes se les paga el valor equitativo de mercado. Luego\, The Garden Kitchen lleva los productos frescos a los mercaditos en centros comunitarios con un descuento para el público. \nSe aceptan dinero en efectivo\, tarjetas de crédito y débito\, y SNAP-EBT\, FMNP\, y Double Up SNAP. \n  \n 
URL:https://thegardenkitchen.org/event/plaza-mobile-market-valencia/2031-04-16/
LOCATION:Valencia Library\, 202 W Valencia Rd\, Tucson\, AZ\, 85706\, United States
CATEGORIES:Community Orgs,Food,Food Security,Southside Community Events,UA Cooperative Extension
GEO:32.1345574;-110.9725514
X-APPLE-STRUCTURED-LOCATION;VALUE=URI;X-ADDRESS=Valencia Library 202 W Valencia Rd Tucson AZ 85706 United States;X-APPLE-RADIUS=500;X-TITLE=202 W Valencia Rd:geo:-110.9725514,32.1345574
END:VEVENT
BEGIN:VEVENT
DTSTART;TZID=America/Phoenix:20310423T100000
DTEND;TZID=America/Phoenix:20310423T120000
DTSTAMP:20260425T044317
CREATED:20250203T211055Z
LAST-MODIFIED:20250213T220435Z
UID:10003234-1934704800-1934712000@thegardenkitchen.org
SUMMARY:PLAZA Mobile Market // Mercado Móvil PLAZA
DESCRIPTION:  \n \nPLAZA Mobile Market is Tucson’s new farmers’ market! \nProduce is grown by small local farmers\, such as refugee communities at the International Rescue Committee and Iskashitaa Refugee Network\, who are paid fair market value. The produce is then brought to markets at community locations by The Garden Kitchen at a discount to the public. \nWe accept SNAP-EBT\, FMNP\, and will be providing Double Up SNAP benefits\, as well as cash and card. \n// \n¡El Mercado Móvil PLAZA es el nuevo mercadito de Tucson! \nLas hortalizas son cultivadas por pequeños agricultores locales\, como los de International Rescue Committee and Iskashitaa Refugee Network\, a quienes se les paga el valor equitativo de mercado. Luego\, The Garden Kitchen lleva los productos frescos a los mercaditos en centros comunitarios con un descuento para el público. \nSe aceptan dinero en efectivo\, tarjetas de crédito y débito\, y SNAP-EBT\, FMNP\, y Double Up SNAP. \n  \n 
URL:https://thegardenkitchen.org/event/plaza-mobile-market-valencia/2031-04-23/
LOCATION:Valencia Library\, 202 W Valencia Rd\, Tucson\, AZ\, 85706\, United States
CATEGORIES:Community Orgs,Food,Food Security,Southside Community Events,UA Cooperative Extension
GEO:32.1345574;-110.9725514
X-APPLE-STRUCTURED-LOCATION;VALUE=URI;X-ADDRESS=Valencia Library 202 W Valencia Rd Tucson AZ 85706 United States;X-APPLE-RADIUS=500;X-TITLE=202 W Valencia Rd:geo:-110.9725514,32.1345574
END:VEVENT
END:VCALENDAR